BEGIN:VCALENDAR
VERSION:2.0
PRODID:-//wp-events-plugin.com//7.2.3.1//EN
TZID:America/Toronto
X-WR-TIMEZONE:America/Toronto
BEGIN:VEVENT
UID:85@ploughshares.ca
DTSTART;TZID=America/Toronto;VALUE=DATE:20250825
DTEND;TZID=America/Toronto;VALUE=DATE:20250830
DTSTAMP:20250808T180038Z
URL:https://ploughshares.ca/events/11th-conference-of-states-parties-to-th
 e-att/
SUMMARY:11th Conference of States Parties to the ATT
DESCRIPTION:Senior Researcher Kelsey Gallagher will join the Control Arms C
 oalition at the Eleventh Conference of States Parties (CSP11) to the Arms 
 Trade Treaty (ATT).
ATTACH;FMTTYPE=image/jpeg:https://ploughshares.ca/wp-content/uploads/2025/
 08/CSP11.png
CATEGORIES:Engagement
LOCATION:Palais des Nations\, Palais des Nations \, Geneva\, Switzerland
X-APPLE-STRUCTURED-LOCATION;VALUE=URI;X-ADDRESS=Palais des Nations \, Genev
 a\, Switzerland;X-APPLE-RADIUS=100;X-TITLE=Palais des Nations:geo:0,0
END:VEVENT
BEGIN:VTIMEZONE
TZID:America/Toronto
X-LIC-LOCATION:America/Toronto
BEGIN:DAYLIGHT
DTSTART:20250309T030000
TZOFFSETFROM:-0500
TZOFFSETTO:-0400
TZNAME:EDT
END:DAYLIGHT
END:VTIMEZONE
END:VCALENDAR