BEGIN:VCALENDAR
VERSION:2.0
PRODID:-//wp-events-plugin.com//7.2.3.1//EN
TZID:America/Toronto
X-WR-TIMEZONE:America/Toronto
BEGIN:VEVENT
UID:95@ploughshares.ca
DTSTART;TZID=America/Toronto:20260601T000000
DTEND;TZID=America/Toronto:20260930T000000
DTSTAMP:20260420T154553Z
URL:https://ploughshares.ca/events/50th-anniversary-exhibit/
SUMMARY:50th Anniversary Exhibit
DESCRIPTION:We are curating an exhibit reflecting 50 years of the work of P
 roject Ploughshares. Archival items\, posters\, art and some items on nucl
 ear disarmament from Geneva will be included. Come and visit the Grebel Ga
 llery at the Kindred Credit Union Centre for Peace Advancement - Ploughsha
 res' home on the 4th floor at Conrad Grebel University College. See the Ga
 llery website for details.
ATTACH;FMTTYPE=image/jpeg:https://ploughshares.ca/wp-content/uploads/2026/
 04/Navy-Ploughshares-50th-logo.png
CATEGORIES:Event
END:VEVENT
BEGIN:VTIMEZONE
TZID:America/Toronto
X-LIC-LOCATION:America/Toronto
BEGIN:DAYLIGHT
DTSTART:20260308T030000
TZOFFSETFROM:-0500
TZOFFSETTO:-0400
TZNAME:EDT
END:DAYLIGHT
END:VTIMEZONE
END:VCALENDAR