BEGIN:VCALENDAR
VERSION:2.0
PRODID:-//wp-events-plugin.com//7.2.3.1//EN
TZID:America/Toronto
X-WR-TIMEZONE:America/Toronto
BEGIN:VEVENT
UID:98@ploughshares.ca
DTSTART;TZID=America/Toronto:20260922T000000
DTEND;TZID=America/Toronto:20260922T000000
DTSTAMP:20260420T154458Z
URL:https://ploughshares.ca/events/50th-anniversary-gala/
SUMMARY:50th Anniversary Gala
DESCRIPTION:Circle this date and watch for more details on this celebratory
  event. \n\nTo RSVP for these events\, or request more details on these e
 vents please contact:\n1-888-907-3223\nplough@ploughshares.ca
ATTACH;FMTTYPE=image/jpeg:https://ploughshares.ca/wp-content/uploads/2026/
 04/Navy-Ploughshares-50th-logo.png
CATEGORIES:Event
LOCATION:Conrad Grebel University College\, 140 Westmount Rd N\, Waterloo\,
  Ontario\, N2L 3G6\, Waterloo\, Canada
X-APPLE-STRUCTURED-LOCATION;VALUE=URI;X-ADDRESS=140 Westmount Rd N\, Waterl
 oo\, Ontario\, N2L 3G6\, Waterloo\, Canada;X-APPLE-RADIUS=100;X-TITLE=Conr
 ad Grebel University College:geo:0,0
END:VEVENT
BEGIN:VTIMEZONE
TZID:America/Toronto
X-LIC-LOCATION:America/Toronto
BEGIN:DAYLIGHT
DTSTART:20260308T030000
TZOFFSETFROM:-0500
TZOFFSETTO:-0400
TZNAME:EDT
END:DAYLIGHT
END:VTIMEZONE
END:VCALENDAR