BEGIN:VCALENDAR
VERSION:2.0
PRODID:-//wp-events-plugin.com//7.2.3.1//EN
TZID:America/Toronto
X-WR-TIMEZONE:America/Toronto
BEGIN:VEVENT
UID:52@ploughshares.ca
DTSTART;TZID=America/Toronto:20230523T120000
DTEND;TZID=America/Toronto:20230523T130000
DTSTAMP:20250507T065908Z
URL:https://ploughshares.ca/events/between-the-lines-peace-war-and-arms-co
 ntrol-in-outer-space-with-dr-jessica-west/
SUMMARY:Between the Lines: Peace\, War\, and Arms Control in Outer Space wi
 th Dr. Jessica West
DESCRIPTION:The Space Law Council - Australia and New Zealand is happy to b
 ring you a brand new live seminar with Senior Researcher at Project Plough
 shares\, Dr. Jessica West!\nDr. West will discuss peace\, war\, and arms c
 ontrol in the context of existing law\, and where to go from here (drawing
  on lessons learned).\nProject Ploughshares is a peace research institute 
 with a focus on disarmament efforts and international security. Dr. West's
  research focusses on advancing peace and security in outer space through 
 a humanitarian focus on space for all.\nRecording to be made available to 
 Space Law Council of Australia and New Zealand members following the event
 .\nDr. Jessica West leads research to advance peace and security in outer 
 space through a humanitarian focus on space for all and benefits to people
  and the planet. As part of this work\, she interacts regularly with key U
 nited Nations bodies tasked with space security and space safety issues. R
 elated research interests include approaches to peace and disarmament root
 ed in humanitarian protection and gender perspectives\, as well as the imp
 act of new technologies on space security such as cyber connectivity and a
 rtificial intelligence. Jessica holds a PhD in global governance from the 
 Balsillie School of International Affairs where her work focused on linkag
 es between resilience\, national security\, and public health. She current
 ly holds roles as a Research Fellow at the Kindred Credit Union Centre for
  Peace Advancement\, and a Senior Fellow at the Centre for International G
 overnance Innovation (CIGI).
ATTACH;FMTTYPE=image/jpeg:https://ploughshares.ca/wp-content/uploads/2025/
 01/67575e664e4425ac97fd5a21_JessSMonitor.jpg
CATEGORIES:Webinar
LOCATION:https://teams.microsoft.com/registration/Z7Kmg31o9kKDKtbQAvMGxQ,bi
 93k53o_U-5wzuXWtyfoA,1NZEgZalSkaJPZr-qbddRQ,XwscoUlfkE-iJ5McGySJ9A,npMow9E
 N8UGOX_0Db5be5Q,in1F8nTW6kyv2fNdGlKJgQ?mode=read&tenantId=83a6b267-687d-42
 f6-832a-d6d002f306c5&skipauthstrap=1
END:VEVENT
BEGIN:VTIMEZONE
TZID:America/Toronto
X-LIC-LOCATION:America/Toronto
BEGIN:DAYLIGHT
DTSTART:20230312T030000
TZOFFSETFROM:-0500
TZOFFSETTO:-0400
TZNAME:EDT
END:DAYLIGHT
END:VTIMEZONE
END:VCALENDAR