BEGIN:VCALENDAR
VERSION:2.0
PRODID:-//wp-events-plugin.com//7.2.3.1//EN
TZID:America/Toronto
X-WR-TIMEZONE:America/Toronto
BEGIN:VEVENT
UID:40@ploughshares.ca
DTSTART;TZID=America/Toronto:20231019T090000
DTEND;TZID=America/Toronto:20231019T110000
DTSTAMP:20250507T073520Z
URL:https://ploughshares.ca/events/consultations-on-autonomous-weapons/
SUMMARY:Consultations on Autonomous Weapons
DESCRIPTION:(By invitation only)\nSenior Researcher Branka Marijan will lea
 d consultations on issues of autonomous weapons with stakeholders from gov
 ernment\, academia\, and civil society.
ATTACH;FMTTYPE=image/jpeg:https://ploughshares.ca/wp-content/uploads/2024/
 11/63e066081ef50c78383f44a2_AIWeaponsWEB-01-1400x483-1.jpeg
CATEGORIES:Engagement
END:VEVENT
BEGIN:VTIMEZONE
TZID:America/Toronto
X-LIC-LOCATION:America/Toronto
BEGIN:DAYLIGHT
DTSTART:20230312T030000
TZOFFSETFROM:-0500
TZOFFSETTO:-0400
TZNAME:EDT
END:DAYLIGHT
END:VTIMEZONE
END:VCALENDAR