BEGIN:VCALENDAR
VERSION:2.0
PRODID:-//wp-events-plugin.com//7.2.3.1//EN
TZID:America/Toronto
X-WR-TIMEZONE:America/Toronto
BEGIN:VEVENT
UID:11@ploughshares.ca
DTSTART;TZID=America/Toronto;VALUE=DATE:20241001
DTEND;TZID=America/Toronto;VALUE=DATE:20241002
DTSTAMP:20250426T050212Z
URL:https://ploughshares.ca/events/defence-policy-update-house-of-commons/
SUMMARY:Defence Policy Update: House of Commons
DESCRIPTION:**Postponed**\nSenior Researcher Branka Marijan will appear bef
 ore the House of Commons Standing Committee on National Defence in Ottawa.
 \nWatch Webcast
ATTACH;FMTTYPE=image/jpeg:https://ploughshares.ca/wp-content/uploads/2025/
 04/parliament.jpg
CATEGORIES:Engagement
LOCATION:https://parlvu.parl.gc.ca/Harmony/
END:VEVENT
BEGIN:VTIMEZONE
TZID:America/Toronto
X-LIC-LOCATION:America/Toronto
BEGIN:DAYLIGHT
DTSTART:20240310T030000
TZOFFSETFROM:-0500
TZOFFSETTO:-0400
TZNAME:EDT
END:DAYLIGHT
END:VTIMEZONE
END:VCALENDAR