BEGIN:VCALENDAR
VERSION:2.0
PRODID:-//wp-events-plugin.com//7.2.3.1//EN
TZID:America/Toronto
X-WR-TIMEZONE:America/Toronto
BEGIN:VEVENT
UID:76@ploughshares.ca
DTSTART;TZID=America/Toronto:20190603T000000
DTEND;TZID=America/Toronto:20190604T000000
DTSTAMP:20250507T232040Z
URL:https://ploughshares.ca/events/event-critical-thinking-in-an-era-of-al
 ternative-facts/
SUMMARY:Event: Critical Thinking in an Era of Alternative Facts
DESCRIPTION:‍How can you spot altered news stories? How do you verify sou
 rces of information? What is the goal of disinformation campaigns?  Join 
 us for an interactive discussion on the importance of digital literacy for
  ordinary citizens as well as practical ways to address the era of alterna
 tive facts. Project Ploughshares researchers and communications staff will
  share insights into ways that we evaluate information\, determine validit
 y of sources and navigate social media platforms.\n\n\n\nWhen: Tuesday\, J
 une 4 @ 12pm - 1:30pmWhere: Conrad Grebel University College\, Community E
 ducation Room (2202)\, 140 Westmount Road North\nPlease note that this eve
 nt is free and a lunch will be provided.\n‍\n‍\n‍
ATTACH;FMTTYPE=image/jpeg:https://ploughshares.ca/wp-content/uploads/2025/
 04/cropped-20943884-scaled.jpg
CATEGORIES:Event
LOCATION:Conrad Grebel University College\, 4th Floor 140 Westmount Road No
 rth Waterloo\, ON\, CA N2L 3G6\, Waterloo \, Canada
X-APPLE-STRUCTURED-LOCATION;VALUE=URI;X-ADDRESS=4th Floor 140 Westmount Roa
 d North Waterloo\, ON\, CA N2L 3G6\, Waterloo \, Canada;X-APPLE-RADIUS=100
 ;X-TITLE=Conrad Grebel University College:geo:0,0
END:VEVENT
BEGIN:VTIMEZONE
TZID:America/Toronto
X-LIC-LOCATION:America/Toronto
BEGIN:DAYLIGHT
DTSTART:20190310T030000
TZOFFSETFROM:-0500
TZOFFSETTO:-0400
TZNAME:EDT
END:DAYLIGHT
END:VTIMEZONE
END:VCALENDAR