BEGIN:VCALENDAR
VERSION:2.0
PRODID:-//wp-events-plugin.com//7.2.3.1//EN
TZID:America/Toronto
X-WR-TIMEZONE:America/Toronto
BEGIN:VEVENT
UID:75@ploughshares.ca
DTSTART;TZID=America/Toronto:20210126T180000
DTEND;TZID=America/Toronto:20210126T180000
DTSTAMP:20250507T063013Z
URL:https://ploughshares.ca/events/event-nuclear-ban-treaty-entry-into-for
 ce/
SUMMARY:Event: Nuclear Ban Treaty Entry into Force
DESCRIPTION:Significance\, Implications and Next Steps\n\n\n\nClick on imag
 e to view poster.\nJanuary 22nd 2021 marked a historic milestone for nucle
 ar disarmament as the Treaty on the Prohibition of Nuclear Weapons (TPNW) 
 came into force\, officially becoming part of international law. Adopted b
 y 122 states in 2017\, the TPNW began a 90-day countdown to entry into for
 ce last October\, when Honduras became the 50th state to ratify it.\nWhile
  many Canadians are celebrating\, however\, the Canadian government is not
 . As a member of NATO\, Canada continues to view nuclear deterrence as a l
 egitimate security doctrine—and to oppose the TPNW.\nJoin Project Plough
 shares for a discussion on the implications for Canada and the world of th
 e TPNW entry into force.\nJoin the Zoom discussion by clicking here.\nFor 
 more about the treaty: Five things to know about the nuclear ban treaty.
ATTACH;FMTTYPE=image/jpeg:https://ploughshares.ca/wp-content/uploads/2024/
 11/63e066081ef50ce28d3f4819_nuclearfreezone.jpeg
CATEGORIES:Event
END:VEVENT
BEGIN:VTIMEZONE
TZID:America/Toronto
X-LIC-LOCATION:America/Toronto
BEGIN:STANDARD
DTSTART:20201101T010000
TZOFFSETFROM:-0400
TZOFFSETTO:-0500
TZNAME:EST
END:STANDARD
END:VTIMEZONE
END:VCALENDAR