BEGIN:VCALENDAR
VERSION:2.0
PRODID:-//wp-events-plugin.com//7.2.3.1//EN
TZID:America/Toronto
X-WR-TIMEZONE:America/Toronto
BEGIN:VEVENT
UID:68@ploughshares.ca
DTSTART;TZID=America/Toronto:20221117T100000
DTEND;TZID=America/Toronto:20221117T110000
DTSTAMP:20250426T032625Z
URL:https://ploughshares.ca/events/executive-director-cesar-jaramillo-will
 -be-participating-in-the-inew-and-dochas-civil-society-forum/
SUMMARY:Executive Director Cesar Jaramillo will be participating in the “
 INEW and Dóchas Civil Society Forum”
DESCRIPTION:Executive Director Cesar Jaramillo will be participating in the
  “INEW and Dóchas Civil Society Forum” on November 17\, one day ahead
  of the Dublin Signing Conference to formally adopt the Political Declarat
 ion on strengthening the protection of civilians from the humanitarian con
 sequences arising from the use of explosive weapons in populated areas (#E
 WIPA).
CATEGORIES:Engagement
END:VEVENT
BEGIN:VTIMEZONE
TZID:America/Toronto
X-LIC-LOCATION:America/Toronto
BEGIN:STANDARD
DTSTART:20221106T010000
TZOFFSETFROM:-0400
TZOFFSETTO:-0500
TZNAME:EST
END:STANDARD
END:VTIMEZONE
END:VCALENDAR