BEGIN:VCALENDAR
VERSION:2.0
PRODID:-//wp-events-plugin.com//7.2.3.1//EN
TZID:America/Toronto
X-WR-TIMEZONE:America/Toronto
BEGIN:VEVENT
UID:91@ploughshares.ca
DTSTART;TZID=America/Toronto;VALUE=DATE:20251016
DTEND;TZID=America/Toronto;VALUE=DATE:20251018
DTSTAMP:20251030T020558Z
URL:https://ploughshares.ca/events/first-committee-unga-2/
SUMMARY:First Committee-UNGA
DESCRIPTION:Research Assistant Kianna Low-A-Chee will deliver the civil soc
 iety statement on space security to the UN First Committee on Disarmament 
 and International Security. 
CATEGORIES:Engagement
END:VEVENT
BEGIN:VTIMEZONE
TZID:America/Toronto
X-LIC-LOCATION:America/Toronto
BEGIN:DAYLIGHT
DTSTART:20250309T030000
TZOFFSETFROM:-0500
TZOFFSETTO:-0400
TZNAME:EDT
END:DAYLIGHT
END:VTIMEZONE
END:VCALENDAR