BEGIN:VCALENDAR
VERSION:2.0
PRODID:-//wp-events-plugin.com//7.2.3.1//EN
TZID:America/Toronto
X-WR-TIMEZONE:America/Toronto
BEGIN:VEVENT
UID:35@ploughshares.ca
DTSTART;TZID=America/Toronto:20230920T081500
DTEND;TZID=America/Toronto:20230920T081500
DTSTAMP:20250507T071513Z
URL:https://ploughshares.ca/events/forty-years-to-nowhere/
SUMMARY:Forty Years to Nowhere
DESCRIPTION:(Closed)\nSenior Researcher Jessica West will deliver a virtual
  lecture to the Space Governance Lab course on “space-cyber governance 
 ”at Indiana University on the topic of security governance at the United
  Nations. Titled “Forty Years to Nowhere\,” she traced the history of 
 competing efforts to prevent an arms race in outer space (PAROS) and their
  continued relevance today.\nRepresenting an effort to bridge competing ap
 proaches\, Jessica detailed the discussions that took place in the recentl
 y completed Open-Ended Working Group on Reducing Space Threats. Although t
 his process ended without a consensus outcome\, she pointed the new topics
 \, ideas\, and cross-regional engagement and cooperation as signs of it’
 s enduring value going forward.
ATTACH;FMTTYPE=image/jpeg:https://ploughshares.ca/wp-content/uploads/2025/
 04/cropped-Sample_Gates_Summer_2016_14__30bce78b-14d9-4fa1-aaaa-12ef5f8ee4
 90.jpg
CATEGORIES:Closed Event,Lecture
LOCATION:https://research.impact.iu.edu/key-areas/cyber-and-national-securi
 ty/stories/space-governance-lab.html
END:VEVENT
BEGIN:VTIMEZONE
TZID:America/Toronto
X-LIC-LOCATION:America/Toronto
BEGIN:DAYLIGHT
DTSTART:20230312T030000
TZOFFSETFROM:-0500
TZOFFSETTO:-0400
TZNAME:EDT
END:DAYLIGHT
END:VTIMEZONE
END:VCALENDAR