BEGIN:VCALENDAR
VERSION:2.0
PRODID:-//wp-events-plugin.com//7.2.3.1//EN
TZID:America/Toronto
X-WR-TIMEZONE:America/Toronto
BEGIN:VEVENT
UID:37@ploughshares.ca
DTSTART;TZID=America/Toronto:20231102T080000
DTEND;TZID=America/Toronto:20231103T170000
DTSTAMP:20250507T074612Z
URL:https://ploughshares.ca/events/inside-the-venn-international-law-at-it
 s-intersections/
SUMMARY:Inside the Venn: International Law at its Intersections
DESCRIPTION:Senior Researcher Jessica West will attend the Canadian Council
  on International Law's annual conference\, this year titled\, Inside the 
 Venn: International Law at its Intersections.\nPractitioners and academics
  working in International Law are more than ever existing at the intersect
 ions of laws\, resolving problems with new rules\, new institutions\, and 
 recalibrating them as global and regional circumstances change. Where inte
 rnational law converges\, competes\, or co-exists with domestic and region
 al legal orders\, practitioners of (international) law increasingly requir
 e subject matter experts to deepen otherwise traditional spheres.\n​In 2
 023\, the CCIL Annual Conference will examine cross-jurisdictional\, and i
 nterdisciplinary dimensions of International Law. The creation of internat
 ional law occurs at intersections in a Venn diagram: domestic and internat
 ional\, or cross border regulation\; international law and the social scie
 nces\; resource management\, environment\, climate change\, indigenous pro
 tections\, and economic development\; international financial regulation\,
  criminal law\, and law of the sea\; international trade and investment\; 
 dispute resolution\; humanitarian law and international human rights. Inte
 rnational governance of financial institutions and resource management hav
 e growing intersections with multiple sub-fields of international law\, tr
 aditionally seen as independent.
ATTACH;FMTTYPE=image/jpeg:https://ploughshares.ca/wp-content/uploads/2025/
 04/cropped-John_G._Diefenbaker_Building_2014_p2.jpg
CATEGORIES:Engagement
LOCATION:John G Diefenbaker Building\, 111 Sussex Drive\, Ottawa\, Ontario 
 K1N 5A1\, Ottawa\, Canada
X-APPLE-STRUCTURED-LOCATION;VALUE=URI;X-ADDRESS=111 Sussex Drive\, Ottawa\,
  Ontario K1N 5A1\, Ottawa\, Canada;X-APPLE-RADIUS=100;X-TITLE=John G Diefe
 nbaker Building:geo:0,0
END:VEVENT
BEGIN:VTIMEZONE
TZID:America/Toronto
X-LIC-LOCATION:America/Toronto
BEGIN:DAYLIGHT
DTSTART:20230312T030000
TZOFFSETFROM:-0500
TZOFFSETTO:-0400
TZNAME:EDT
END:DAYLIGHT
END:VTIMEZONE
END:VCALENDAR