BEGIN:VCALENDAR
VERSION:2.0
PRODID:-//wp-events-plugin.com//7.2.3.1//EN
TZID:America/Toronto
X-WR-TIMEZONE:America/Toronto
BEGIN:VEVENT
UID:79@ploughshares.ca
DTSTART;TZID=America/Toronto:20250527T120000
DTEND;TZID=America/Toronto:20250527T130000
DTSTAMP:20250518T184700Z
URL:https://ploughshares.ca/events/nuclear-fears-in-orbit-governing-space-
 security-in-a-time-of-rising-tension/
SUMMARY:Nuclear Fears in Orbit: Governing Space Security in a Time of Risin
 g Tension
DESCRIPTION:Senior Researcher Jessica West will deliver the Prague Space Se
 curity Guest Lecture entitled “Nuclear Fears in Orbit: Governing Space S
 ecurity in a Time of Rising Tensions” on May 27\, 2025.\n\nAs fears of n
 uclear weapons in space resurface\, fueled by NATO’s warnings about pote
 ntial Russian actions and the unexplained tumbling of a Russian satellite 
 with possible nuclear implications\, this lecture examines the realities\,
  implications\, and misunderstandings.\n\nJessica will explore what we act
 ually know\, decipher the signals being sent\, and assess the status of mu
 ltilateral governance efforts – ranging from the UN Security Council to 
 the Open-Ended Working Group on the Prevention of an Arms Race in Outer Sp
 ace – amid intensifying geopolitical tensions.\n\nWhat does sustainable 
 security in orbit look like\, and how close are we to crossing a critical 
 line?
ATTACH;FMTTYPE=image/jpeg:https://ploughshares.ca/wp-content/uploads/2025/
 05/NculearFearsEvent.png
CATEGORIES:Lecture
LOCATION:https://us02web.zoom.us/webinar/register/WN_X59hMJIcTTOZtpKanHDr6Q
END:VEVENT
BEGIN:VTIMEZONE
TZID:America/Toronto
X-LIC-LOCATION:America/Toronto
BEGIN:DAYLIGHT
DTSTART:20250309T030000
TZOFFSETFROM:-0500
TZOFFSETTO:-0400
TZNAME:EDT
END:DAYLIGHT
END:VTIMEZONE
END:VCALENDAR