BEGIN:VCALENDAR
VERSION:2.0
PRODID:-//wp-events-plugin.com//7.2.3.1//EN
TZID:America/Toronto
X-WR-TIMEZONE:America/Toronto
BEGIN:VEVENT
UID:97@ploughshares.ca
DTSTART;TZID=America/Toronto:20260525T183000
DTEND;TZID=America/Toronto:20260525T183000
DTSTAMP:20260420T154353Z
URL:https://ploughshares.ca/events/ottawa-reception/
SUMMARY:Ottawa Reception
DESCRIPTION:Project Ploughshares at 50: Rethinking Security in an Uncertain
  World.\n\n\nJoin Jessica West\, Senior Researcher and Paul Heidebrecht\, 
 Director at Ploughshares and other supporters for a reception and hear f
 irst-hand about Jessica’s research and from other experts.  Paul will b
 e on hand to provide other updates on Ploughshares and how we are marking 
 our 50th anniversary.\n
ATTACH;FMTTYPE=image/jpeg:https://ploughshares.ca/wp-content/uploads/2026/
 04/Navy-Ploughshares-50th-logo.png
CATEGORIES:Event
LOCATION:Alt Hotel\, 185 Slater St.\, Ottawa\, K1P 0C8\, Canada
X-APPLE-STRUCTURED-LOCATION;VALUE=URI;X-ADDRESS=185 Slater St.\, Ottawa\, K
 1P 0C8\, Canada;X-APPLE-RADIUS=100;X-TITLE=Alt Hotel:geo:0,0
END:VEVENT
BEGIN:VTIMEZONE
TZID:America/Toronto
X-LIC-LOCATION:America/Toronto
BEGIN:DAYLIGHT
DTSTART:20260308T030000
TZOFFSETFROM:-0500
TZOFFSETTO:-0400
TZNAME:EDT
END:DAYLIGHT
END:VTIMEZONE
END:VCALENDAR