BEGIN:VCALENDAR
VERSION:2.0
PRODID:-//wp-events-plugin.com//7.2.3.1//EN
TZID:America/Toronto
X-WR-TIMEZONE:America/Toronto
BEGIN:VEVENT
UID:18@ploughshares.ca
DTSTART;TZID=America/Toronto:20240619T180000
DTEND;TZID=America/Toronto:20240619T200000
DTSTAMP:20250507T050623Z
URL:https://ploughshares.ca/events/peace-and-security-in-a-climate-disrupt
 ed-world/
SUMMARY:Peace and Security in a Climate-Disrupted World
DESCRIPTION:Watch Simon Dalby's talk here.\nPlease join us for an engaging 
 and interactive discussion titled Peace and Security in a Climate-Disrupte
 d World\, hosted by Project Ploughshares.\nProfessor Emeritus Simon Dalby\
 , author of Pyromania: Fire and Geopolitics and Rethinking Environmental S
 ecurity\, will explore the critical connections between the climate crisis
 \, peace and security\, and how these connections prompt a rethinking of n
 ational defence.\nSpace is limited. Please RSVP using this link or by emai
 ling Tracy DeSantis.
ATTACH;FMTTYPE=image/jpeg:https://ploughshares.ca/wp-content/uploads/2025/
 04/climate-ottawa.jpg
CATEGORIES:Event
LOCATION:Rose Fuschia Room\, Alt Hotel\, Ottawa\, Canada
X-APPLE-STRUCTURED-LOCATION;VALUE=URI;X-ADDRESS=Alt Hotel\, Ottawa\, Canada
 ;X-APPLE-RADIUS=100;X-TITLE=Rose Fuschia Room:geo:0,0
END:VEVENT
BEGIN:VTIMEZONE
TZID:America/Toronto
X-LIC-LOCATION:America/Toronto
BEGIN:DAYLIGHT
DTSTART:20240310T030000
TZOFFSETFROM:-0500
TZOFFSETTO:-0400
TZNAME:EDT
END:DAYLIGHT
END:VTIMEZONE
END:VCALENDAR