BEGIN:VCALENDAR
VERSION:2.0
PRODID:-//wp-events-plugin.com//7.2.3.1//EN
TZID:America/Toronto
X-WR-TIMEZONE:America/Toronto
BEGIN:VEVENT
UID:15@ploughshares.ca
DTSTART;TZID=America/Toronto;VALUE=DATE:20240909
DTEND;TZID=America/Toronto;VALUE=DATE:20240911
DTSTAMP:20250507T040412Z
URL:https://ploughshares.ca/events/reaim-2024/
SUMMARY:REAIM 2024
DESCRIPTION:Senior Researcher Branka Marijan will attend the second summit 
 on Responsible Artificial Intelligence in the Military Domain: REAIM 2024\
 , hosted by the Republic of Korea in Seoul.
ATTACH;FMTTYPE=image/jpeg:https://ploughshares.ca/wp-content/uploads/2025/
 04/REAIM2024.jpg
CATEGORIES:Engagement
LOCATION:Seoul\, Seoul\, Republic of Korea \, Seoul\, South Korea
X-APPLE-STRUCTURED-LOCATION;VALUE=URI;X-ADDRESS=Seoul\, Republic of Korea \
 , Seoul\, South Korea;X-APPLE-RADIUS=100;X-TITLE=Seoul:geo:0,0
END:VEVENT
BEGIN:VTIMEZONE
TZID:America/Toronto
X-LIC-LOCATION:America/Toronto
BEGIN:DAYLIGHT
DTSTART:20240310T030000
TZOFFSETFROM:-0500
TZOFFSETTO:-0400
TZNAME:EDT
END:DAYLIGHT
END:VTIMEZONE
END:VCALENDAR