BEGIN:VCALENDAR
VERSION:2.0
PRODID:-//wp-events-plugin.com//7.2.3.1//EN
TZID:America/Toronto
X-WR-TIMEZONE:America/Toronto
BEGIN:VEVENT
UID:94@ploughshares.ca
DTSTART:20260217T150000Z
DTEND:20260217T170000Z
DTSTAMP:20260207T212435Z
URL:https://ploughshares.ca/events/regulating-outer-space-a-security-persp
 ective/
SUMMARY:Regulating Outer Space - A Security Perspective
DESCRIPTION:The fifth session of Space Law and Policy Seminar Series for th
 e 2025/26 academic year is being held on Tuesday 17th February 2026 from 1
 5.00-17.00 (UK time) via Microsoft Teams. This event is titled 'Regulating
  Outer Space: A Security Perspective’ and will focus on the military use
 (s) of space and the regulation of such activity.\n\nThe panellists are:\n
 \nChristophe Bosquillon - Senior Fellow\, National Institute for Deterren
 ce Studies\n\nDr Bleddyn Bowen - Associate Professor of Astropolitics\, 
 Durham University\n\nDiana Luncă - Senior Lead for National Security\, U
 K Space Agency\n\nDr Jessica West\, Senior Researcher\, Project Ploughshar
 es (Canada)
ATTACH;FMTTYPE=image/jpeg:https://ploughshares.ca/wp-content/uploads/2026/
 02/Seminar-5-Poster-Regulating-Outer-Space-A-Security-Perspective.png
CATEGORIES:Event
LOCATION:https://events.teams.microsoft.com/event/53268583-dc43-47c2-b8dc-5
 cb7baedd0c0@67bda7ee-fd80-41ef-ac91-358418290a1e
END:VEVENT
END:VCALENDAR