BEGIN:VCALENDAR
VERSION:2.0
PRODID:-//wp-events-plugin.com//7.2.3.1//EN
TZID:America/Toronto
X-WR-TIMEZONE:America/Toronto
BEGIN:VEVENT
UID:38@ploughshares.ca
DTSTART;TZID=America/Toronto:20231117T110000
DTEND;TZID=America/Toronto:20231117T110000
DTSTAMP:20250507T074849Z
URL:https://ploughshares.ca/events/responsible-applications-of-artificial-
 intelligence-and-emerging-technologies/
SUMMARY:Responsible applications of artificial intelligence and emerging te
 chnologies
DESCRIPTION:(Lecture\, closed)\nSenior Researcher Branka Marijan will speak
  to University of Waterloo Engineering students about the issue of autonom
 ous weapons. Branka will highlight the need for global regulation as well 
 as the role of the tech community in ensuring responsible applications of 
 artificial intelligence and emerging technologies.
ATTACH;FMTTYPE=image/jpeg:https://ploughshares.ca/wp-content/uploads/2025/
 04/cropped-waterloo2-scaled.jpg
CATEGORIES:Closed Event,Lecture
LOCATION:Univerity of Waterloo\, 200 University Ave W\, Waterloo\, ON N2L 3
 G1\, Waterloo \, Canada
X-APPLE-STRUCTURED-LOCATION;VALUE=URI;X-ADDRESS=200 University Ave W\, Wate
 rloo\, ON N2L 3G1\, Waterloo \, Canada;X-APPLE-RADIUS=100;X-TITLE=Univerit
 y of Waterloo:geo:0,0
END:VEVENT
BEGIN:VTIMEZONE
TZID:America/Toronto
X-LIC-LOCATION:America/Toronto
BEGIN:STANDARD
DTSTART:20231105T010000
TZOFFSETFROM:-0400
TZOFFSETTO:-0500
TZNAME:EST
END:STANDARD
END:VTIMEZONE
END:VCALENDAR