BEGIN:VCALENDAR
VERSION:2.0
PRODID:-//wp-events-plugin.com//7.2.3.1//EN
TZID:America/Toronto
X-WR-TIMEZONE:America/Toronto
BEGIN:VEVENT
UID:65@ploughshares.ca
DTSTART;TZID=America/Toronto:20230110T000000
DTEND;TZID=America/Toronto:20230112T000000
DTSTAMP:20250507T063753Z
URL:https://ploughshares.ca/events/responsible-space-behaviours-latin-amer
 ican-perspectives/
SUMMARY:Responsible space behaviours – Latin American perspectives
DESCRIPTION:Space enables most aspects of our lives\, but threats by States
  to space systems could disrupt\, damage\, destroy or disable services dep
 endant on them. Agreement on effective approaches has been hard to reach. 
 In the meantime\, the risks of miscalculation are intensifying.\nThe UN Ge
 neral Assembly established an open-ended working group (OEWG) to consider 
 threats by States to space systems and make recommendations on possible no
 rms\, rules and principles of responsible behaviours. This event will info
 rm the third meeting of the OEWG.
ATTACH;FMTTYPE=image/jpeg:https://ploughshares.ca/wp-content/uploads/2024/
 11/63e066081ef50c209d3f440b_UN-1200x741-1.jpeg
CATEGORIES:Engagement
END:VEVENT
BEGIN:VTIMEZONE
TZID:America/Toronto
X-LIC-LOCATION:America/Toronto
BEGIN:STANDARD
DTSTART:20221106T010000
TZOFFSETFROM:-0400
TZOFFSETTO:-0500
TZNAME:EST
END:STANDARD
END:VTIMEZONE
END:VCALENDAR