BEGIN:VCALENDAR
VERSION:2.0
PRODID:-//wp-events-plugin.com//7.2.3.1//EN
TZID:America/Toronto
X-WR-TIMEZONE:America/Toronto
BEGIN:VEVENT
UID:9@ploughshares.ca
DTSTART;TZID=America/Toronto:20241025T090000
DTEND;TZID=America/Toronto:20241025T180000
DTSTAMP:20250426T022329Z
URL:https://ploughshares.ca/events/security-options-for-a-troubled-world-2
 /
SUMMARY:Security Options for a Troubled World
DESCRIPTION:Executive Director Cesar Jaramillo\, Senior Researchers Branka 
 Marijan and Jessica West will all be speaking at the Canadian Pugwash Grou
 p - University of Ottawa CIPS Conference "Security Options for a Troubled 
 World."
ATTACH;FMTTYPE=image/jpeg:https://ploughshares.ca/wp-content/uploads/2024/
 10/SecurityOptionsCIPS.jpg
CATEGORIES:Engagement
LOCATION:University of Ottawa\, University of Ottawa\, Ottawa \, Canada
X-APPLE-STRUCTURED-LOCATION;VALUE=URI;X-ADDRESS=University of Ottawa\, Otta
 wa \, Canada;X-APPLE-RADIUS=100;X-TITLE=University of Ottawa:geo:0,0
END:VEVENT
BEGIN:VTIMEZONE
TZID:America/Toronto
X-LIC-LOCATION:America/Toronto
BEGIN:DAYLIGHT
DTSTART:20240310T030000
TZOFFSETFROM:-0500
TZOFFSETTO:-0400
TZNAME:EDT
END:DAYLIGHT
END:VTIMEZONE
END:VCALENDAR