BEGIN:VCALENDAR
VERSION:2.0
PRODID:-//wp-events-plugin.com//7.2.3.1//EN
TZID:America/Toronto
X-WR-TIMEZONE:America/Toronto
BEGIN:VEVENT
UID:67@ploughshares.ca
DTSTART;TZID=America/Toronto:20221201T100000
DTEND;TZID=America/Toronto:20221201T110000
DTSTAMP:20250426T032511Z
URL:https://ploughshares.ca/events/senior-researcher-jessica-west-will-be-
 participating-in-armed-conflict-in-outer-space-legal-and-geopolitical-impl
 ications/
SUMMARY:Senior Researcher Jessica West will be participating in “Armed Co
 nflict in Outer Space: Legal and Geopolitical implications”
DESCRIPTION:From anti-satellite weapons tests to enhanced space-based defen
 se capabilities\, the proliferation of outer space military activities con
 tinues unabated. This proliferation threatens international peace and secu
 rity and jeopardizes our ability to sustainably explore and use outer spac
 e. It also necessitates a rigorous and academic ‘deep dive’ into the r
 ules governing military space activities. What is allowed? What is prohibi
 ted? And what are the inevitable ‘grey zones’? This webinar will first
  discuss the prospects for expanding and clarifying the existing internati
 onal law that controls outer space militarization and weaponization. The d
 iscussion will then shift to look at the geopolitical impact that outer sp
 ace militarization and weaponization is having here on Earth.
CATEGORIES:Webinar
LOCATION:https://www.mcgill.ca/iasl/iasl-webinar-series/aerospace-webinar-s
 eries#Panel%202
END:VEVENT
BEGIN:VTIMEZONE
TZID:America/Toronto
X-LIC-LOCATION:America/Toronto
BEGIN:STANDARD
DTSTART:20221106T010000
TZOFFSETFROM:-0400
TZOFFSETTO:-0500
TZNAME:EST
END:STANDARD
END:VTIMEZONE
END:VCALENDAR