BEGIN:VCALENDAR
VERSION:2.0
PRODID:-//wp-events-plugin.com//7.2.3.1//EN
TZID:America/Toronto
X-WR-TIMEZONE:America/Toronto
BEGIN:VEVENT
UID:69@ploughshares.ca
DTSTART;TZID=America/Toronto:20221109T110000
DTEND;TZID=America/Toronto:20221109T123000
DTSTAMP:20250507T063353Z
URL:https://ploughshares.ca/events/senior-researcher-jessica-west-will-be-
 participating-in-conversations-before-midnight-bulletin-annual-gathering-2
 022/
SUMMARY:Senior Researcher Jessica West will be participating in “Conversa
 tions Before Midnight” Bulletin Annual Gathering 2022
DESCRIPTION:Senior Researcher Jessica West will be participating in “Conv
 ersations Before Midnight” Bulletin Annual Gathering 2022\nThis unique v
 irtual experience is a time to join others in the Bulletin community for k
 eynote remarks from leading nuclear expert and Ploughshares Fund president
  Emma Belcher in conversation with Bulletin editor-in-chief John Meckli
 n.\nAdditional special benefits for ticketed guests include:\n·     
  NEWLY ADDED: An on-the-ground update from Ukrainian journalist Illia P
 onomarenko with BulletinGoverning Board member and award-winning former 
 columnist MelissaHarris.\n·      A chance to directly engage on t
 opics of nuclear risk\, climate change\, disruptive technologies\, and bio
 security.\n·      Your very own small-group discussion with expert
 s from around the world.\nBy participating\, you are supporting theBullet
 in’s vital mission of equipping the public\, policymakers\, and scientis
 ts with the information needed to reduce man-made threats to our existence
 \, while at the same time elevating the role of science in the formation o
 f public policy.
ATTACH;FMTTYPE=image/jpeg:https://ploughshares.ca/wp-content/uploads/2024/
 11/65086b3310f50c0abec71e80_ClimateImage.jpg
CATEGORIES:Event
LOCATION:https://thebulletin.org/support-the-bulletin/cbm-2022/#CBMmenu
END:VEVENT
BEGIN:VTIMEZONE
TZID:America/Toronto
X-LIC-LOCATION:America/Toronto
BEGIN:STANDARD
DTSTART:20221106T010000
TZOFFSETFROM:-0400
TZOFFSETTO:-0500
TZNAME:EST
END:STANDARD
END:VTIMEZONE
END:VCALENDAR