BEGIN:VCALENDAR
VERSION:2.0
PRODID:-//wp-events-plugin.com//7.2.3.1//EN
TZID:America/Toronto
X-WR-TIMEZONE:America/Toronto
BEGIN:VEVENT
UID:13@ploughshares.ca
DTSTART;TZID=America/Toronto:20240923T090000
DTEND;TZID=America/Toronto:20240925T180000
DTSTAMP:20250426T050808Z
URL:https://ploughshares.ca/events/space-bound-2024/
SUMMARY:Space Bound 2024
DESCRIPTION:Senior Researcher Jessica West will be a featured speaker at Sp
 ace Bound 24.\nThe three-day event will be held in Ottawa from September 2
 3-25\, 2024.\nSpace Canada’s Parliamentary Reception will open the event
  on September 23rd  at the Sir John A. Macdonald building from 5-7 p.m. T
 he reception will feature a variety of guest speakers\, industry leaders a
 nd networking. The reception is open to all SpaceBound 2024 conference att
 endees.\nFollowing the Parliamentary Reception will be Space Canada’s 3r
 d annual conference entitled SpaceBound 2024 at the Canadian Museum of Nat
 ure in Ottawa on September 24-25. The two-day conference will feature netw
 orking opportunities with thought leaders in the industry and discussions 
 on key topics and industry trends. Join other dynamic leaders in the space
  industry and ecosystem as well as key stakeholders for this opportunity t
 o meet and discuss how to strengthen the Canadian space sector.\nhttps://s
 pace-bound.ca/
ATTACH;FMTTYPE=image/jpeg:https://ploughshares.ca/wp-content/uploads/2025/
 04/ISS.jpg
CATEGORIES:Engagement
LOCATION:Canadian Museum of Nature\, Canadian Museum of Nature \, Ottawa\, 
 Canada
X-APPLE-STRUCTURED-LOCATION;VALUE=URI;X-ADDRESS=Canadian Museum of Nature \
 , Ottawa\, Canada;X-APPLE-RADIUS=100;X-TITLE=Canadian Museum of Nature:geo
 :0,0
END:VEVENT
BEGIN:VTIMEZONE
TZID:America/Toronto
X-LIC-LOCATION:America/Toronto
BEGIN:DAYLIGHT
DTSTART:20240310T030000
TZOFFSETFROM:-0500
TZOFFSETTO:-0400
TZNAME:EDT
END:DAYLIGHT
END:VTIMEZONE
END:VCALENDAR