BEGIN:VCALENDAR
VERSION:2.0
PRODID:-//wp-events-plugin.com//7.2.3.1//EN
TZID:America/Toronto
X-WR-TIMEZONE:America/Toronto
BEGIN:VEVENT
UID:50@ploughshares.ca
DTSTART;TZID=America/Toronto:20230602T070000
DTEND;TZID=America/Toronto:20230602T080000
DTSTAMP:20250507T070220Z
URL:https://ploughshares.ca/events/space-cafe-canada-by-dr-jessica-west/
SUMMARY:Space Café Canada by Dr. Jessica West
DESCRIPTION:This Space Café Canada will feature James Slifierz\, Co-founde
 r and CEO of SkyWatch\, a Canadian space company that strives to put outer
  space to work for humanity by making commercial Earth observation data ac
 cessible to everyone. This discussion is hosted by Dr. Jessica West\, Seni
 or Researcher at Project Ploughshares and a friend of SpaceWatch.Global.\n
 Bringing Space Down to Earth\nHow can we put the vast amounts of space dat
 a to better use?\nHundreds of trillions of pixels of our planet are captur
 ed from space every day. Why isn’t everyone using it?\nJoin us for an in
 side view of the barriers to accessing space-based Earth observation data\
 , how those barriers are being removed\, and how new technology is changin
 g the ways in which EO data is produce\, accessed\, and put to use. Discov
 er the innovative ways that it is changing industries from agriculture and
  insurance to management of infrastructure and natural resources. And cons
 ider what it means to be a space company – and space user – rooted to 
 Earth.\nWhat will you do with commercial satellite imagery?\nThe audience 
 will have an opportunity to ask questions in dialogue with James Slifierz.
ATTACH;FMTTYPE=image/jpeg:https://ploughshares.ca/wp-content/uploads/2025/
 04/cropped-1789-scaled.jpg
CATEGORIES:Webinar
LOCATION:https://www.eventbrite.de/e/space-cafe-canada-by-dr-jessica-west-t
 ickets-641463774417
END:VEVENT
BEGIN:VTIMEZONE
TZID:America/Toronto
X-LIC-LOCATION:America/Toronto
BEGIN:DAYLIGHT
DTSTART:20230312T030000
TZOFFSETFROM:-0500
TZOFFSETTO:-0400
TZNAME:EDT
END:DAYLIGHT
END:VTIMEZONE
END:VCALENDAR