BEGIN:VCALENDAR
VERSION:2.0
PRODID:-//wp-events-plugin.com//7.2.3.1//EN
TZID:America/Toronto
X-WR-TIMEZONE:America/Toronto
BEGIN:VEVENT
UID:81@ploughshares.ca
DTSTART;TZID=America/Toronto;VALUE=DATE:20250612
DTEND;TZID=America/Toronto;VALUE=DATE:20250614
DTSTAMP:20250604T212417Z
URL:https://ploughshares.ca/events/space-security-and-emerging-technologie
 s-from-principles-to-practice/
SUMMARY:Space Security and Emerging Technologies: From Principles to Practi
 ce
DESCRIPTION:Senior Researchers Jessica West and Branka Marijan will partici
 pate in this CIGI-hosted workshop examining the intersection of space secu
 rity and emerging technologies. \nAs space becomes increasingly entangled
  with emerging technologies\, such as artificial intelligence\, quantum co
 mputing\, robotics and cyber capabilities\, the international community is
  grappling with how best to govern these overlapping domains. Various UN e
 fforts on security and arms control provide an important foundation\, but 
 current diplomatic discussions often remain abstract\, leaving a gap betwe
 en principles and practice and between technology domains. This workshop a
 ims to close these gaps.\nCIGI is bringing together a select group of expe
 rts from the fields of space\, emerging technology and governance to:\n\n\
 n 	map how emerging technologies are reshaping the space domain\;\n 	ident
 ify governance challenges and opportunities\;\n 	explore implications for 
 security and deterrence strategies\; and\n 	engage in a scenario-based exe
 rcise to generate practical policy insights.\n\nOur objectives are to:\n\n
 \n 	translate foundational research into concrete governance recommendatio
 ns\;\n 	connect Canadian and allied perspectives to global efforts on spac
 e security\; and\n 	contribute recommendations to national and internation
 al discussions on space security and build bridges across diplomatic proce
 sses.\n\nA formal agenda will be shared with registrants.\nThe workshop ha
 s limited capacity and will be closed-door\, under the CIGI Rule.\nMore i
 nfo.
ATTACH;FMTTYPE=image/jpeg:https://ploughshares.ca/wp-content/uploads/2025/
 06/CIGIeventOTTAWA.png
END:VEVENT
BEGIN:VTIMEZONE
TZID:America/Toronto
X-LIC-LOCATION:America/Toronto
BEGIN:DAYLIGHT
DTSTART:20250309T030000
TZOFFSETFROM:-0500
TZOFFSETTO:-0400
TZNAME:EDT
END:DAYLIGHT
END:VTIMEZONE
END:VCALENDAR