BEGIN:VCALENDAR
VERSION:2.0
PRODID:-//wp-events-plugin.com//7.2.3.1//EN
TZID:America/Toronto
X-WR-TIMEZONE:America/Toronto
BEGIN:VEVENT
UID:64@ploughshares.ca
DTSTART;TZID=America/Toronto:20230215T000000
DTEND;TZID=America/Toronto:20230216T000000
DTSTAMP:20250507T064941Z
URL:https://ploughshares.ca/events/summit-on-responsible-artificial-intell
 igence-in-the-military-domain-reaim-2023/
SUMMARY:Summit on Responsible Artificial Intelligence in the Military Domai
 n: REAIM 2023
DESCRIPTION:The government of the Netherlands is hosting the first global S
 ummit on Responsible Artificial Intelligence in the Military Domain: REAIM
 2023. Project Ploughshares will be hosting a panel of experts at the REAIM
  2023 conference.\nSenior Researcher Branka Marijan will be hosting the p
 anel discussion and highlighting the need for multilayered governance res
 ponse in military applications of AI.
ATTACH;FMTTYPE=image/jpeg:https://ploughshares.ca/wp-content/uploads/2024/
 11/640f41e8244516331d516c5e_Branka-REAIMWEB-scaled.jpg
CATEGORIES:Engagement
END:VEVENT
BEGIN:VTIMEZONE
TZID:America/Toronto
X-LIC-LOCATION:America/Toronto
BEGIN:STANDARD
DTSTART:20221106T010000
TZOFFSETFROM:-0400
TZOFFSETTO:-0500
TZNAME:EST
END:STANDARD
END:VTIMEZONE
END:VCALENDAR