BEGIN:VCALENDAR
VERSION:2.0
PRODID:-//wp-events-plugin.com//7.2.3.1//EN
TZID:America/Toronto
X-WR-TIMEZONE:America/Toronto
BEGIN:VEVENT
UID:12@ploughshares.ca
DTSTART;TZID=America/Toronto:20240918T143000
DTEND;TZID=America/Toronto:20240918T153000
DTSTAMP:20250507T045620Z
URL:https://ploughshares.ca/events/the-call-for-an-arms-embargo-now/
SUMMARY:The call for an arms embargo now
DESCRIPTION:Senior Researcher Kelsey Gallagher will be participating in an 
 online discussion on Canadian arms exports\, human rights and internationa
 l obligations on Wednesday\, September 18th.\nThe webinar is organized by 
 the Canadian Friends Service Committee (CFSC) and Peace Brigades Internati
 onal-Canada.
ATTACH;FMTTYPE=image/jpeg:https://ploughshares.ca/wp-content/uploads/2024/
 11/65ecdb20a85596293ff2a72c_CanadaExportsFlagWEB.jpg
CATEGORIES:Webinar
LOCATION:https://us02web.zoom.us/webinar/register/WN_oQptk2xqTzu57KTpphaNgQ
 #/registration
END:VEVENT
BEGIN:VTIMEZONE
TZID:America/Toronto
X-LIC-LOCATION:America/Toronto
BEGIN:DAYLIGHT
DTSTART:20240310T030000
TZOFFSETFROM:-0500
TZOFFSETTO:-0400
TZNAME:EDT
END:DAYLIGHT
END:VTIMEZONE
END:VCALENDAR