BEGIN:VCALENDAR
VERSION:2.0
PRODID:-//wp-events-plugin.com//7.2.3.1//EN
TZID:America/Toronto
X-WR-TIMEZONE:America/Toronto
BEGIN:VEVENT
UID:55@ploughshares.ca
DTSTART;TZID=America/Toronto:20230327T133000
DTEND;TZID=America/Toronto:20230327T133000
DTSTAMP:20250507T065644Z
URL:https://ploughshares.ca/events/the-forgotten-war-yemen-saudi-arabia-an
 d-the-canadian-arms-trade/
SUMMARY:The Forgotten War: Yemen\, Saudi Arabia\, and the Canadian arms tra
 de
DESCRIPTION:Eight years ago\, the Saudi-led coalition began an armed interv
 ention in Yemen. An estimated 377\,000 people have died because of the con
 flict. Millions more have been displaced across the region.\nLeading organ
 izations have repeatedly accused the Saudi-led coalition of perpetrating g
 ross violations of human rights in the conflict and have called for an end
  to weapons transfers to the warring parties. Yet in these eight years\, C
 anada has exported record numbers of arms to Saudi Arabia.\nJoin us at a v
 irtual panel to learn about Yemen’s humanitarian crisis\, Canada’s ong
 oing export of arms to Saudi Arabia\, and the relationship between Canada
 ’s feminist foreign policy and the booming Canadian arms trade.\nThis ev
 ent will include live English to French interpretation.\nSpeakers:\nFatma 
 Jaffar\, Policy &amp\; Advocacy Lead\, Oxfam in Yemen\nJennifer Pedersen\,
  Scholar and Humanitarian Policy Advisor\nCesar Jaramillo\, Executive Dire
 ctor\, Project Ploughshares\n
ATTACH;FMTTYPE=image/jpeg:https://ploughshares.ca/wp-content/uploads/2024/
 11/63e066081ef50c101b3f4404_YemenLAV-1.png
CATEGORIES:Webinar
LOCATION:https://ploughshares-ca.zoom.us/webinar/register/WN_X7z1n-DlRCin2P
 tUsZ3C_w
END:VEVENT
BEGIN:VTIMEZONE
TZID:America/Toronto
X-LIC-LOCATION:America/Toronto
BEGIN:DAYLIGHT
DTSTART:20230312T030000
TZOFFSETFROM:-0500
TZOFFSETTO:-0400
TZNAME:EDT
END:DAYLIGHT
END:VTIMEZONE
END:VCALENDAR