BEGIN:VCALENDAR
VERSION:2.0
PRODID:-//wp-events-plugin.com//7.2.3.1//EN
TZID:America/Toronto
X-WR-TIMEZONE:America/Toronto
BEGIN:VEVENT
UID:66@ploughshares.ca
DTSTART;TZID=America/Toronto:20230130T000000
DTEND;TZID=America/Toronto:20230201T000000
DTSTAMP:20250507T064259Z
URL:https://ploughshares.ca/events/united-nations-open-ended-working-group
 -on-reducing-space-threats-in-geneva-switzerland/
SUMMARY:United Nations Open-Ended Working Group on Reducing Space Threats i
 n Geneva\, Switzerland.
DESCRIPTION:Senior Researcher Jessica West will be participating in the Uni
 ted Nations Open-Ended Working Group on Reducing Space Threats in Geneva\,
  Switzerland.\n
ATTACH;FMTTYPE=image/jpeg:https://ploughshares.ca/wp-content/uploads/2025/
 04/cropped-shutterstock_343551713-1.jpg.png
CATEGORIES:Engagement
LOCATION:Palais des Nations\, Palais des Nations \, Geneva\, Switzerland
X-APPLE-STRUCTURED-LOCATION;VALUE=URI;X-ADDRESS=Palais des Nations \, Genev
 a\, Switzerland;X-APPLE-RADIUS=100;X-TITLE=Palais des Nations:geo:0,0
END:VEVENT
BEGIN:VTIMEZONE
TZID:America/Toronto
X-LIC-LOCATION:America/Toronto
BEGIN:STANDARD
DTSTART:20221106T010000
TZOFFSETFROM:-0400
TZOFFSETTO:-0500
TZNAME:EST
END:STANDARD
END:VTIMEZONE
END:VCALENDAR